BEGIN:VCALENDAR
VERSION:2.0
PRODID:-//Hansen Dam Horse Park - ECPv6.15.18//NONSGML v1.0//EN
CALSCALE:GREGORIAN
METHOD:PUBLISH
X-WR-CALNAME:Hansen Dam Horse Park
X-ORIGINAL-URL:https://hansendamhorsepark.com
X-WR-CALDESC:Events for Hansen Dam Horse Park
REFRESH-INTERVAL;VALUE=DURATION:PT1H
X-Robots-Tag:noindex
X-PUBLISHED-TTL:PT1H
BEGIN:VTIMEZONE
TZID:America/Los_Angeles
BEGIN:DAYLIGHT
TZOFFSETFROM:-0800
TZOFFSETTO:-0700
TZNAME:PDT
DTSTART:20250309T100000
END:DAYLIGHT
BEGIN:STANDARD
TZOFFSETFROM:-0700
TZOFFSETTO:-0800
TZNAME:PST
DTSTART:20251102T090000
END:STANDARD
BEGIN:DAYLIGHT
TZOFFSETFROM:-0800
TZOFFSETTO:-0700
TZNAME:PDT
DTSTART:20260308T100000
END:DAYLIGHT
BEGIN:STANDARD
TZOFFSETFROM:-0700
TZOFFSETTO:-0800
TZNAME:PST
DTSTART:20261101T090000
END:STANDARD
BEGIN:DAYLIGHT
TZOFFSETFROM:-0800
TZOFFSETTO:-0700
TZNAME:PDT
DTSTART:20270314T100000
END:DAYLIGHT
BEGIN:STANDARD
TZOFFSETFROM:-0700
TZOFFSETTO:-0800
TZNAME:PST
DTSTART:20271107T090000
END:STANDARD
END:VTIMEZONE
BEGIN:VEVENT
DTSTART;VALUE=DATE:20260918
DTEND;VALUE=DATE:20260921
DTSTAMP:20260425T091312
CREATED:20260330T173546Z
LAST-MODIFIED:20260330T173546Z
UID:4171-1789689600-1789948799@hansendamhorsepark.com
SUMMARY:Cara Callaway Dog Agility
DESCRIPTION:
URL:https://hansendamhorsepark.com/event/cara-callaway-dog-agility/
LOCATION:Grand Prix Arena
END:VEVENT
BEGIN:VEVENT
DTSTART;VALUE=DATE:20260919
DTEND;VALUE=DATE:20260920
DTSTAMP:20260425T091312
CREATED:20260330T173630Z
LAST-MODIFIED:20260330T173630Z
UID:4174-1789776000-1789862399@hansendamhorsepark.com
SUMMARY:Private Party
DESCRIPTION:
URL:https://hansendamhorsepark.com/event/private-party-78/
LOCATION:Sunrise Patio
END:VEVENT
END:VCALENDAR