BEGIN:VCALENDAR
VERSION:2.0
PRODID:-//Hansen Dam Horse Park - ECPv6.15.18//NONSGML v1.0//EN
CALSCALE:GREGORIAN
METHOD:PUBLISH
X-WR-CALNAME:Hansen Dam Horse Park
X-ORIGINAL-URL:https://hansendamhorsepark.com
X-WR-CALDESC:Events for Hansen Dam Horse Park
REFRESH-INTERVAL;VALUE=DURATION:PT1H
X-Robots-Tag:noindex
X-PUBLISHED-TTL:PT1H
BEGIN:VTIMEZONE
TZID:America/Los_Angeles
BEGIN:DAYLIGHT
TZOFFSETFROM:-0800
TZOFFSETTO:-0700
TZNAME:PDT
DTSTART:20250309T100000
END:DAYLIGHT
BEGIN:STANDARD
TZOFFSETFROM:-0700
TZOFFSETTO:-0800
TZNAME:PST
DTSTART:20251102T090000
END:STANDARD
BEGIN:DAYLIGHT
TZOFFSETFROM:-0800
TZOFFSETTO:-0700
TZNAME:PDT
DTSTART:20260308T100000
END:DAYLIGHT
BEGIN:STANDARD
TZOFFSETFROM:-0700
TZOFFSETTO:-0800
TZNAME:PST
DTSTART:20261101T090000
END:STANDARD
BEGIN:DAYLIGHT
TZOFFSETFROM:-0800
TZOFFSETTO:-0700
TZNAME:PDT
DTSTART:20270314T100000
END:DAYLIGHT
BEGIN:STANDARD
TZOFFSETFROM:-0700
TZOFFSETTO:-0800
TZNAME:PST
DTSTART:20271107T090000
END:STANDARD
END:VTIMEZONE
BEGIN:VEVENT
DTSTART;VALUE=DATE:20260501
DTEND;VALUE=DATE:20260504
DTSTAMP:20260423T042733
CREATED:20260330T170451Z
LAST-MODIFIED:20260330T170451Z
UID:4137-1777593600-1777852799@hansendamhorsepark.com
SUMMARY:Wine Country Classic Horse Show
DESCRIPTION:
URL:https://hansendamhorsepark.com/event/wine-country-classic-horse-show/
LOCATION:Hansen Dam Horse Park\, 11127 Orcas Avenue\, Sylmar\, CA\, 91342\, United States
END:VEVENT
BEGIN:VEVENT
DTSTART;VALUE=DATE:20260515
DTEND;VALUE=DATE:20260518
DTSTAMP:20260423T042733
CREATED:20260205T003038Z
LAST-MODIFIED:20260330T170543Z
UID:4100-1778803200-1779062399@hansendamhorsepark.com
SUMMARY:Gold Coast Horse Show Hunter/Jumper
DESCRIPTION:These three-day shows offer a wide variety of classes for all levels of hunter/jumper riders. The shows are rated by USEF\, USHJA Outreach\, PCHA\, and LAHJA. Exhibitors automatically earn points toward the Gold Coast Series Awards presented at the Gold Coast Gala during Gold Coast Finale. Visit our website: https://goldcoasthorseshows.com/ or email us for more information: show@goldcoasthorseshows.com. \nIEL Championships featuring medal finals\, hunter derbies\, & jumper championships
URL:https://hansendamhorsepark.com/event/gold-coast-horse-show-hunter-jumper-3/
LOCATION:Hansen Dam Horse Park\, 11127 Orcas Avenue\, Sylmar\, CA\, 91342\, United States
END:VEVENT
BEGIN:VEVENT
DTSTART;VALUE=DATE:20260523
DTEND;VALUE=DATE:20260524
DTSTAMP:20260423T042733
CREATED:20260330T170636Z
LAST-MODIFIED:20260330T170636Z
UID:4139-1779494400-1779580799@hansendamhorsepark.com
SUMMARY:Private Party
DESCRIPTION:
URL:https://hansendamhorsepark.com/event/private-party-73/
LOCATION:Clubhouse
END:VEVENT
BEGIN:VEVENT
DTSTART;VALUE=DATE:20260530
DTEND;VALUE=DATE:20260601
DTSTAMP:20260423T042733
CREATED:20241213T192158Z
LAST-MODIFIED:20241213T192158Z
UID:3916-1780099200-1780271999@hansendamhorsepark.com
SUMMARY:ETI Corral 101 Horse Show
DESCRIPTION:Weekend shows featuring a variety of English and Western classes for many levels of horses and riders. These are great entry level shows held in a fun\, relaxing environment.
URL:https://hansendamhorsepark.com/event/eti-corral-101-horse-show-22/
LOCATION:Hansen Dam Horse Park\, 11127 Orcas Avenue\, Sylmar\, CA\, 91342\, United States
END:VEVENT
BEGIN:VEVENT
DTSTART;VALUE=DATE:20260605
DTEND;VALUE=DATE:20260608
DTSTAMP:20260423T042733
CREATED:20260205T003132Z
LAST-MODIFIED:20260205T003238Z
UID:4102-1780617600-1780876799@hansendamhorsepark.com
SUMMARY:Gold Coast Horse Show Hunter/Jumper
DESCRIPTION:These three-day shows offer a wide variety of classes for all levels of hunter/jumper riders. The shows are rated by USEF\, USHJA Outreach\, PCHA\, and LAHJA. Exhibitors automatically earn points toward the Gold Coast Series Awards presented at the Gold Coast Gala during Gold Coast Finale. Visit our website: https://goldcoasthorseshows.com/ or email us for more information: show@goldcoasthorseshows.com.
URL:https://hansendamhorsepark.com/event/gold-coast-horse-show-hunter-jumper-4/
LOCATION:Hansen Dam Horse Park\, 11127 Orcas Avenue\, Sylmar\, CA\, 91342\, United States
END:VEVENT
BEGIN:VEVENT
DTSTART;VALUE=DATE:20260613
DTEND;VALUE=DATE:20260614
DTSTAMP:20260423T042733
CREATED:20250627T162408Z
LAST-MODIFIED:20260330T171030Z
UID:3981-1781308800-1781395199@hansendamhorsepark.com
SUMMARY:Private Party - Sunrise Patio
DESCRIPTION:
URL:https://hansendamhorsepark.com/event/private-party-67/
LOCATION:Sunrise Patio
END:VEVENT
BEGIN:VEVENT
DTSTART;VALUE=DATE:20260613
DTEND;VALUE=DATE:20260614
DTSTAMP:20260423T042733
CREATED:20260330T171122Z
LAST-MODIFIED:20260330T171122Z
UID:4143-1781308800-1781395199@hansendamhorsepark.com
SUMMARY:Private Party - Clubhouse
DESCRIPTION:
URL:https://hansendamhorsepark.com/event/private-party-clubhouse/
LOCATION:Clubhouse
END:VEVENT
BEGIN:VEVENT
DTSTART;VALUE=DATE:20260613
DTEND;VALUE=DATE:20260614
DTSTAMP:20260423T042733
CREATED:20260330T171206Z
LAST-MODIFIED:20260330T171206Z
UID:4145-1781308800-1781395199@hansendamhorsepark.com
SUMMARY:Private Party - Charro VIP
DESCRIPTION:
URL:https://hansendamhorsepark.com/event/private-party-charro-vip/
LOCATION:VIP Charro
END:VEVENT
BEGIN:VEVENT
DTSTART;VALUE=DATE:20260620
DTEND;VALUE=DATE:20260621
DTSTAMP:20260423T042733
CREATED:20250627T162444Z
LAST-MODIFIED:20260330T171249Z
UID:3983-1781913600-1781999999@hansendamhorsepark.com
SUMMARY:Private Party - Sunrise Patio
DESCRIPTION:
URL:https://hansendamhorsepark.com/event/private-party-68/
LOCATION:Sunrise Patio
END:VEVENT
BEGIN:VEVENT
DTSTART;VALUE=DATE:20260620
DTEND;VALUE=DATE:20260621
DTSTAMP:20260423T042733
CREATED:20260330T171335Z
LAST-MODIFIED:20260330T171335Z
UID:4148-1781913600-1781999999@hansendamhorsepark.com
SUMMARY:Private Party - Charro VIP
DESCRIPTION:
URL:https://hansendamhorsepark.com/event/private-party-charro-vip-2/
LOCATION:VIP Charro
END:VEVENT
BEGIN:VEVENT
DTSTART;VALUE=DATE:20260620
DTEND;VALUE=DATE:20260621
DTSTAMP:20260423T042733
CREATED:20260330T171505Z
LAST-MODIFIED:20260330T171505Z
UID:4150-1781913600-1781999999@hansendamhorsepark.com
SUMMARY:Private Party - Clubhouse
DESCRIPTION:
URL:https://hansendamhorsepark.com/event/private-party-clubhouse-2/
LOCATION:Clubhouse
END:VEVENT
BEGIN:VEVENT
DTSTART;VALUE=DATE:20260627
DTEND;VALUE=DATE:20260628
DTSTAMP:20260423T042733
CREATED:20260330T172637Z
LAST-MODIFIED:20260330T172637Z
UID:4152-1782518400-1782604799@hansendamhorsepark.com
SUMMARY:Private Party - Charro VIP
DESCRIPTION:
URL:https://hansendamhorsepark.com/event/private-party-charro-vip-3/
LOCATION:VIP Charro
END:VEVENT
BEGIN:VEVENT
DTSTART;VALUE=DATE:20260627
DTEND;VALUE=DATE:20260628
DTSTAMP:20260423T042733
CREATED:20260330T172726Z
LAST-MODIFIED:20260330T172726Z
UID:4154-1782518400-1782604799@hansendamhorsepark.com
SUMMARY:Private Party - Clubhouse
DESCRIPTION:
URL:https://hansendamhorsepark.com/event/private-party-clubhouse-3/
LOCATION:Clubhouse
END:VEVENT
BEGIN:VEVENT
DTSTART;VALUE=DATE:20260711
DTEND;VALUE=DATE:20260712
DTSTAMP:20260423T042733
CREATED:20250627T162528Z
LAST-MODIFIED:20260330T172833Z
UID:3985-1783728000-1783814399@hansendamhorsepark.com
SUMMARY:Private Party - Charro VIP
DESCRIPTION:
URL:https://hansendamhorsepark.com/event/private-party-69/
LOCATION:VIP Charro
END:VEVENT
BEGIN:VEVENT
DTSTART;VALUE=DATE:20260711
DTEND;VALUE=DATE:20260712
DTSTAMP:20260423T042733
CREATED:20260330T172906Z
LAST-MODIFIED:20260330T172906Z
UID:4158-1783728000-1783814399@hansendamhorsepark.com
SUMMARY:Private Party - Clubhouse
DESCRIPTION:
URL:https://hansendamhorsepark.com/event/private-party-clubhouse-4/
LOCATION:Clubhouse
END:VEVENT
BEGIN:VEVENT
DTSTART;VALUE=DATE:20260711
DTEND;VALUE=DATE:20260712
DTSTAMP:20260423T042733
CREATED:20260330T172944Z
LAST-MODIFIED:20260330T172944Z
UID:4160-1783728000-1783814399@hansendamhorsepark.com
SUMMARY:Private Party - Sunrise Patio
DESCRIPTION:
URL:https://hansendamhorsepark.com/event/private-party-sunrise-patio/
LOCATION:Sunrise Patio
END:VEVENT
BEGIN:VEVENT
DTSTART;VALUE=DATE:20260718
DTEND;VALUE=DATE:20260719
DTSTAMP:20260423T042733
CREATED:20250627T162620Z
LAST-MODIFIED:20250627T162620Z
UID:3987-1784332800-1784419199@hansendamhorsepark.com
SUMMARY:Private Party
DESCRIPTION:
URL:https://hansendamhorsepark.com/event/private-party-70/
LOCATION:Clubhouse
END:VEVENT
BEGIN:VEVENT
DTSTART;VALUE=DATE:20260725
DTEND;VALUE=DATE:20260726
DTSTAMP:20260423T042733
CREATED:20260330T173048Z
LAST-MODIFIED:20260330T173048Z
UID:4162-1784937600-1785023999@hansendamhorsepark.com
SUMMARY:Private Party
DESCRIPTION:
URL:https://hansendamhorsepark.com/event/private-party-74/
LOCATION:Sunrise Patio
END:VEVENT
BEGIN:VEVENT
DTSTART;VALUE=DATE:20260731
DTEND;VALUE=DATE:20260803
DTSTAMP:20260423T042733
CREATED:20260205T003331Z
LAST-MODIFIED:20260205T003403Z
UID:4104-1785456000-1785715199@hansendamhorsepark.com
SUMMARY:Gold Coast Horse Show Hunter/Jumper - Aloha!
DESCRIPTION:These three-day shows offer a wide variety of classes for all levels of hunter/jumper riders. The shows are rated by USEF\, USHJA Outreach\, PCHA\, and LAHJA. Exhibitors automatically earn points toward the Gold Coast Series Awards presented at the Gold Coast Gala during Gold Coast Finale. Visit our website: https://goldcoasthorseshows.com/ or email us for more information: show@goldcoasthorseshows.com. \nSurf’s up for some aloha fun!
URL:https://hansendamhorsepark.com/event/gold-coast-horse-show-hunter-jumper-aloha/
END:VEVENT
BEGIN:VEVENT
DTSTART;VALUE=DATE:20260808
DTEND;VALUE=DATE:20260809
DTSTAMP:20260423T042733
CREATED:20260330T173209Z
LAST-MODIFIED:20260330T173209Z
UID:4164-1786147200-1786233599@hansendamhorsepark.com
SUMMARY:Private Party
DESCRIPTION:
URL:https://hansendamhorsepark.com/event/private-party-75/
LOCATION:Clubhouse
END:VEVENT
BEGIN:VEVENT
DTSTART;VALUE=DATE:20260815
DTEND;VALUE=DATE:20260816
DTSTAMP:20260423T042733
CREATED:20260330T173254Z
LAST-MODIFIED:20260330T173254Z
UID:4167-1786752000-1786838399@hansendamhorsepark.com
SUMMARY:Private Party
DESCRIPTION:
URL:https://hansendamhorsepark.com/event/private-party-76/
LOCATION:Sunrise Patio
END:VEVENT
BEGIN:VEVENT
DTSTART;VALUE=DATE:20260828
DTEND;VALUE=DATE:20260831
DTSTAMP:20260423T042733
CREATED:20260205T003554Z
LAST-MODIFIED:20260205T003554Z
UID:4107-1787875200-1788134399@hansendamhorsepark.com
SUMMARY:Gold Coast Horse Show Hunter/Jumper - Labor Day
DESCRIPTION:These three-day shows offer a wide variety of classes for all levels of hunter/jumper riders. The shows are rated by USEF\, USHJA Outreach\, PCHA\, and LAHJA. Exhibitors automatically earn points toward the Gold Coast Series Awards presented at the Gold Coast Gala during Gold Coast Finale. Visit our website: https://goldcoasthorseshows.com/ or email us for more information: show@goldcoasthorseshows.com. \nUSHJA Outreach Festival\, SCHSA 3’0” Finals\, & LAHJA Copper & Silver Finals
URL:https://hansendamhorsepark.com/event/gold-coast-horse-show-hunter-jumper-labor-day/
LOCATION:Hansen Dam Horse Park\, 11127 Orcas Avenue\, Sylmar\, CA\, 91342\, United States
END:VEVENT
BEGIN:VEVENT
DTSTART;VALUE=DATE:20260905
DTEND;VALUE=DATE:20260906
DTSTAMP:20260423T042733
CREATED:20260330T173414Z
LAST-MODIFIED:20260330T173414Z
UID:4169-1788566400-1788652799@hansendamhorsepark.com
SUMMARY:Private Party
DESCRIPTION:
URL:https://hansendamhorsepark.com/event/private-party-77/
LOCATION:Clubhouse
END:VEVENT
BEGIN:VEVENT
DTSTART;VALUE=DATE:20260912
DTEND;VALUE=DATE:20260914
DTSTAMP:20260423T042733
CREATED:20241213T192231Z
LAST-MODIFIED:20241213T192231Z
UID:3918-1789171200-1789343999@hansendamhorsepark.com
SUMMARY:ETI Corral 101 Horse Show
DESCRIPTION:Weekend shows featuring a variety of English and Western classes for many levels of horses and riders. These are great entry level shows held in a fun\, relaxing environment.
URL:https://hansendamhorsepark.com/event/eti-corral-101-horse-show-23/
LOCATION:Hansen Dam Horse Park\, 11127 Orcas Avenue\, Sylmar\, CA\, 91342\, United States
END:VEVENT
BEGIN:VEVENT
DTSTART;VALUE=DATE:20260918
DTEND;VALUE=DATE:20260921
DTSTAMP:20260423T042733
CREATED:20260330T173546Z
LAST-MODIFIED:20260330T173546Z
UID:4171-1789689600-1789948799@hansendamhorsepark.com
SUMMARY:Cara Callaway Dog Agility
DESCRIPTION:
URL:https://hansendamhorsepark.com/event/cara-callaway-dog-agility/
LOCATION:Grand Prix Arena
END:VEVENT
BEGIN:VEVENT
DTSTART;VALUE=DATE:20260919
DTEND;VALUE=DATE:20260920
DTSTAMP:20260423T042733
CREATED:20260330T173630Z
LAST-MODIFIED:20260330T173630Z
UID:4174-1789776000-1789862399@hansendamhorsepark.com
SUMMARY:Private Party
DESCRIPTION:
URL:https://hansendamhorsepark.com/event/private-party-78/
LOCATION:Sunrise Patio
END:VEVENT
BEGIN:VEVENT
DTSTART;VALUE=DATE:20261002
DTEND;VALUE=DATE:20261005
DTSTAMP:20260423T042733
CREATED:20260205T003659Z
LAST-MODIFIED:20260205T003659Z
UID:4109-1790899200-1791158399@hansendamhorsepark.com
SUMMARY:Gold Coast Horse Show Hunter/Jumper
DESCRIPTION:These three-day shows offer a wide variety of classes for all levels of hunter/jumper riders. The shows are rated by USEF\, USHJA Outreach\, PCHA\, and LAHJA. Exhibitors automatically earn points toward the Gold Coast Series Awards presented at the Gold Coast Gala during Gold Coast Finale. Visit our website: https://goldcoasthorseshows.com/ or email us for more information: show@goldcoasthorseshows.com. \nFinal show of the Gold Coast Series\, IEL Show #1\, LAHJA Bronze & Gold Finals
URL:https://hansendamhorsepark.com/event/gold-coast-horse-show-hunter-jumper-5/
LOCATION:Hansen Dam Horse Park\, 11127 Orcas Avenue\, Sylmar\, CA\, 91342\, United States
END:VEVENT
BEGIN:VEVENT
DTSTART;VALUE=DATE:20261017
DTEND;VALUE=DATE:20261019
DTSTAMP:20260423T042733
CREATED:20241213T192305Z
LAST-MODIFIED:20241213T192305Z
UID:3920-1792195200-1792367999@hansendamhorsepark.com
SUMMARY:ETI Corral 101 Horse Show
DESCRIPTION:Weekend shows featuring a variety of English and Western classes for many levels of horses and riders. These are great entry level shows held in a fun\, relaxing environment.
URL:https://hansendamhorsepark.com/event/eti-corral-101-horse-show-24/
LOCATION:Hansen Dam Horse Park\, 11127 Orcas Avenue\, Sylmar\, CA\, 91342\, United States
END:VEVENT
BEGIN:VEVENT
DTSTART;VALUE=DATE:20261023
DTEND;VALUE=DATE:20261026
DTSTAMP:20260423T042733
CREATED:20260330T173807Z
LAST-MODIFIED:20260330T173807Z
UID:4176-1792713600-1792972799@hansendamhorsepark.com
SUMMARY:Cara Callaway Dog Agility
DESCRIPTION:
URL:https://hansendamhorsepark.com/event/cara-callaway-dog-agility-2/
LOCATION:Grand Prix Arena
END:VEVENT
BEGIN:VEVENT
DTSTART;VALUE=DATE:20261106
DTEND;VALUE=DATE:20261109
DTSTAMP:20260423T042733
CREATED:20260205T003749Z
LAST-MODIFIED:20260205T003749Z
UID:4111-1793923200-1794182399@hansendamhorsepark.com
SUMMARY:Gold Coast Horse Show Hunter/Jumper - Finale
DESCRIPTION:These three-day shows offer a wide variety of classes for all levels of hunter/jumper riders. The shows are rated by USEF\, USHJA Outreach\, PCHA\, and LAHJA. Exhibitors automatically earn points toward the Gold Coast Series Awards presented at the Gold Coast Gala during Gold Coast Finale. Visit our website: https://goldcoasthorseshows.com/ or email us for more information: show@goldcoasthorseshows.com. \nGold Coast Gala on Saturday after the show!
URL:https://hansendamhorsepark.com/event/gold-coast-horse-show-hunter-jumper-finale/
LOCATION:Hansen Dam Horse Park\, 11127 Orcas Avenue\, Sylmar\, CA\, 91342\, United States
END:VEVENT
END:VCALENDAR