BEGIN:VCALENDAR
VERSION:2.0
PRODID:-//Hansen Dam Horse Park - ECPv6.15.18//NONSGML v1.0//EN
CALSCALE:GREGORIAN
METHOD:PUBLISH
X-WR-CALNAME:Hansen Dam Horse Park
X-ORIGINAL-URL:https://hansendamhorsepark.com
X-WR-CALDESC:Events for Hansen Dam Horse Park
REFRESH-INTERVAL;VALUE=DURATION:PT1H
X-Robots-Tag:noindex
X-PUBLISHED-TTL:PT1H
BEGIN:VTIMEZONE
TZID:America/Los_Angeles
BEGIN:DAYLIGHT
TZOFFSETFROM:-0800
TZOFFSETTO:-0700
TZNAME:PDT
DTSTART:20240310T100000
END:DAYLIGHT
BEGIN:STANDARD
TZOFFSETFROM:-0700
TZOFFSETTO:-0800
TZNAME:PST
DTSTART:20241103T090000
END:STANDARD
BEGIN:DAYLIGHT
TZOFFSETFROM:-0800
TZOFFSETTO:-0700
TZNAME:PDT
DTSTART:20250309T100000
END:DAYLIGHT
BEGIN:STANDARD
TZOFFSETFROM:-0700
TZOFFSETTO:-0800
TZNAME:PST
DTSTART:20251102T090000
END:STANDARD
BEGIN:DAYLIGHT
TZOFFSETFROM:-0800
TZOFFSETTO:-0700
TZNAME:PDT
DTSTART:20260308T100000
END:DAYLIGHT
BEGIN:STANDARD
TZOFFSETFROM:-0700
TZOFFSETTO:-0800
TZNAME:PST
DTSTART:20261101T090000
END:STANDARD
END:VTIMEZONE
BEGIN:VEVENT
DTSTART;VALUE=DATE:20251025
DTEND;VALUE=DATE:20251026
DTSTAMP:20260425T094810
CREATED:20250127T225051Z
LAST-MODIFIED:20250127T225051Z
UID:3928-1761350400-1761436799@hansendamhorsepark.com
SUMMARY:Private Party
DESCRIPTION:
URL:https://hansendamhorsepark.com/event/private-party-62/
LOCATION:Clubhouse
END:VEVENT
BEGIN:VEVENT
DTSTART;VALUE=DATE:20251024
DTEND;VALUE=DATE:20251025
DTSTAMP:20260425T094810
CREATED:20250627T162303Z
LAST-MODIFIED:20250627T162303Z
UID:3979-1761264000-1761350399@hansendamhorsepark.com
SUMMARY:Private Party
DESCRIPTION:
URL:https://hansendamhorsepark.com/event/private-party-66/
LOCATION:VIP Charro
END:VEVENT
BEGIN:VEVENT
DTSTART;VALUE=DATE:20251018
DTEND;VALUE=DATE:20251020
DTSTAMP:20260425T094810
CREATED:20241213T191933Z
LAST-MODIFIED:20241213T191933Z
UID:3910-1760745600-1760918399@hansendamhorsepark.com
SUMMARY:ETI Corral 101 Horse Show
DESCRIPTION:Weekend shows featuring a variety of English and Western classes for many levels of horses and riders. These are great entry level shows held in a fun\, relaxing environment.
URL:https://hansendamhorsepark.com/event/eti-corral-101-horse-show-19/
LOCATION:Hansen Dam Horse Park\, 11127 Orcas Avenue\, Sylmar\, CA\, 91342\, United States
END:VEVENT
BEGIN:VEVENT
DTSTART;VALUE=DATE:20251011
DTEND;VALUE=DATE:20251012
DTSTAMP:20260425T094810
CREATED:20241127T175824Z
LAST-MODIFIED:20250627T161749Z
UID:3893-1760140800-1760227199@hansendamhorsepark.com
SUMMARY:Private Party
DESCRIPTION:
URL:https://hansendamhorsepark.com/event/private-party-33/
LOCATION:Clubhouse
END:VEVENT
BEGIN:VEVENT
DTSTART;VALUE=DATE:20251003
DTEND;VALUE=DATE:20251006
DTSTAMP:20260425T094810
CREATED:20240418T193504Z
LAST-MODIFIED:20250128T204749Z
UID:3741-1759449600-1759708799@hansendamhorsepark.com
SUMMARY:Gold Coast Horse Show Hunter/Jumper
DESCRIPTION:These three-day shows offer a wide variety of classes for all levels of hunter/jumper riders. The shows are rated by USEF\, USHJA Outreach\, PCHA\, and LAHJA. Exhibitors automatically earn points toward the Gold Coast Series Awards presented at the Gold Coast Gala during Gold Coast Finale. Visit our website: https://goldcoasthorseshows.com/ or email us for more information: show@goldcoasthorseshows.com.
URL:https://hansendamhorsepark.com/event/gold-coast-horse-show-22/
LOCATION:Hansen Dam Horse Park\, 11127 Orcas Avenue\, Sylmar\, CA\, 91342\, United States
END:VEVENT
BEGIN:VEVENT
DTSTART;VALUE=DATE:20250927
DTEND;VALUE=DATE:20250928
DTSTAMP:20260425T094810
CREATED:20250225T205140Z
LAST-MODIFIED:20250225T205140Z
UID:3962-1758931200-1759017599@hansendamhorsepark.com
SUMMARY:Private Party
DESCRIPTION:
URL:https://hansendamhorsepark.com/event/private-party-64/
LOCATION:Clubhouse
END:VEVENT
BEGIN:VEVENT
DTSTART;VALUE=DATE:20250920
DTEND;VALUE=DATE:20250921
DTSTAMP:20260425T094810
CREATED:20240628T175222Z
LAST-MODIFIED:20240628T175222Z
UID:3800-1758326400-1758412799@hansendamhorsepark.com
SUMMARY:Private Party
DESCRIPTION:
URL:https://hansendamhorsepark.com/event/private-party-47/
LOCATION:Sunrise Patio
END:VEVENT
BEGIN:VEVENT
DTSTART;VALUE=DATE:20250914
DTEND;VALUE=DATE:20250915
DTSTAMP:20260425T094810
CREATED:20250805T165154Z
LAST-MODIFIED:20250805T165154Z
UID:3990-1757808000-1757894399@hansendamhorsepark.com
SUMMARY:Private Party
DESCRIPTION:
URL:https://hansendamhorsepark.com/event/private-party-71/
LOCATION:Clubhouse
END:VEVENT
BEGIN:VEVENT
DTSTART;VALUE=DATE:20250913
DTEND;VALUE=DATE:20250915
DTSTAMP:20260425T094810
CREATED:20241213T191850Z
LAST-MODIFIED:20241213T191850Z
UID:3908-1757721600-1757894399@hansendamhorsepark.com
SUMMARY:ETI Corral 101 Horse Show
DESCRIPTION:Weekend shows featuring a variety of English and Western classes for many levels of horses and riders. These are great entry level shows held in a fun\, relaxing environment.
URL:https://hansendamhorsepark.com/event/eti-corral-101-horse-show-18/
LOCATION:Hansen Dam Horse Park\, 11127 Orcas Avenue\, Sylmar\, CA\, 91342\, United States
END:VEVENT
BEGIN:VEVENT
DTSTART;VALUE=DATE:20250913
DTEND;VALUE=DATE:20250915
DTSTAMP:20260425T094810
CREATED:20240726T161548Z
LAST-MODIFIED:20240726T161548Z
UID:3832-1757721600-1757894399@hansendamhorsepark.com
SUMMARY:ETI Corral 101 Horse Show
DESCRIPTION:Weekend shows featuring a variety of English and Western classes for many levels of horses and riders. These are great entry level shows held in a fun\, relaxing environment.
URL:https://hansendamhorsepark.com/event/eti-corral-101-horse-show-9/
END:VEVENT
BEGIN:VEVENT
DTSTART;VALUE=DATE:20250906
DTEND;VALUE=DATE:20250907
DTSTAMP:20260425T094810
CREATED:20240226T232403Z
LAST-MODIFIED:20240416T203753Z
UID:3687-1757116800-1757203199@hansendamhorsepark.com
SUMMARY:Private Party
DESCRIPTION:
URL:https://hansendamhorsepark.com/event/private-wedding/
LOCATION:VIP Charro
END:VEVENT
BEGIN:VEVENT
DTSTART;VALUE=DATE:20250905
DTEND;VALUE=DATE:20250908
DTSTAMP:20260425T094810
CREATED:20241202T180601Z
LAST-MODIFIED:20241202T180601Z
UID:3897-1757030400-1757289599@hansendamhorsepark.com
SUMMARY:LAHJA
DESCRIPTION:
URL:https://hansendamhorsepark.com/event/lahja/
LOCATION:Hansen Dam Horse Park\, 11127 Orcas Avenue\, Sylmar\, CA\, 91342\, United States
END:VEVENT
BEGIN:VEVENT
DTSTART;VALUE=DATE:20250829
DTEND;VALUE=DATE:20250901
DTSTAMP:20260425T094810
CREATED:20240418T193436Z
LAST-MODIFIED:20250128T204722Z
UID:3739-1756425600-1756684799@hansendamhorsepark.com
SUMMARY:Gold Coast Horse Show Hunter/Jumper
DESCRIPTION:These three-day shows offer a wide variety of classes for all levels of hunter/jumper riders. The shows are rated by USEF\, USHJA Outreach\, PCHA\, and LAHJA. Exhibitors automatically earn points toward the Gold Coast Series Awards presented at the Gold Coast Gala during Gold Coast Finale. Visit our website: https://goldcoasthorseshows.com/ or email us for more information: show@goldcoasthorseshows.com.
URL:https://hansendamhorsepark.com/event/gold-coast-horse-show-21/
LOCATION:Hansen Dam Horse Park\, 11127 Orcas Avenue\, Sylmar\, CA\, 91342\, United States
END:VEVENT
BEGIN:VEVENT
DTSTART;VALUE=DATE:20250823
DTEND;VALUE=DATE:20250824
DTSTAMP:20260425T094810
CREATED:20250627T162158Z
LAST-MODIFIED:20250627T162158Z
UID:3977-1755907200-1755993599@hansendamhorsepark.com
SUMMARY:Private Party
DESCRIPTION:
URL:https://hansendamhorsepark.com/event/private-party-53/
LOCATION:VIP Charro
END:VEVENT
BEGIN:VEVENT
DTSTART;VALUE=DATE:20250823
DTEND;VALUE=DATE:20250824
DTSTAMP:20260425T094810
CREATED:20250627T162057Z
LAST-MODIFIED:20250627T162057Z
UID:3975-1755907200-1755993599@hansendamhorsepark.com
SUMMARY:Private Party
DESCRIPTION:
URL:https://hansendamhorsepark.com/event/private-party-49/
LOCATION:Clubhouse
END:VEVENT
BEGIN:VEVENT
DTSTART;VALUE=DATE:20250801
DTEND;VALUE=DATE:20250804
DTSTAMP:20260425T094810
CREATED:20240418T193407Z
LAST-MODIFIED:20250128T204703Z
UID:3737-1754006400-1754265599@hansendamhorsepark.com
SUMMARY:Gold Coast Horse Show Hunter/Jumper
DESCRIPTION:These three-day shows offer a wide variety of classes for all levels of hunter/jumper riders. The shows are rated by USEF\, USHJA Outreach\, PCHA\, and LAHJA. Exhibitors automatically earn points toward the Gold Coast Series Awards presented at the Gold Coast Gala during Gold Coast Finale. Visit our website: https://goldcoasthorseshows.com/ or email us for more information: show@goldcoasthorseshows.com.
URL:https://hansendamhorsepark.com/event/gold-coast-horse-show-20/
LOCATION:Hansen Dam Horse Park\, 11127 Orcas Avenue\, Sylmar\, CA\, 91342\, United States
END:VEVENT
BEGIN:VEVENT
DTSTART;VALUE=DATE:20250726
DTEND;VALUE=DATE:20250727
DTSTAMP:20260425T094810
CREATED:20240829T172819Z
LAST-MODIFIED:20240829T172819Z
UID:3861-1753488000-1753574399@hansendamhorsepark.com
SUMMARY:Private Party
DESCRIPTION:
URL:https://hansendamhorsepark.com/event/private-party-55/
LOCATION:VIP Charro
END:VEVENT
BEGIN:VEVENT
DTSTART;VALUE=DATE:20250621
DTEND;VALUE=DATE:20250622
DTSTAMP:20260425T094810
CREATED:20250225T205215Z
LAST-MODIFIED:20250225T205215Z
UID:3964-1750464000-1750550399@hansendamhorsepark.com
SUMMARY:Private Party
DESCRIPTION:
URL:https://hansendamhorsepark.com/event/private-party-65/
LOCATION:Clubhouse
END:VEVENT
BEGIN:VEVENT
DTSTART;VALUE=DATE:20250621
DTEND;VALUE=DATE:20250622
DTSTAMP:20260425T094810
CREATED:20250214T215708Z
LAST-MODIFIED:20250214T215722Z
UID:3959-1750464000-1750550399@hansendamhorsepark.com
SUMMARY:Private Party
DESCRIPTION:
URL:https://hansendamhorsepark.com/event/private-party-63/
LOCATION:VIP Charro
END:VEVENT
BEGIN:VEVENT
DTSTART;VALUE=DATE:20250614
DTEND;VALUE=DATE:20250615
DTSTAMP:20260425T094810
CREATED:20240829T173106Z
LAST-MODIFIED:20240829T173106Z
UID:3865-1749859200-1749945599@hansendamhorsepark.com
SUMMARY:Private Party
DESCRIPTION:
URL:https://hansendamhorsepark.com/event/private-party-56/
LOCATION:Clubhouse
END:VEVENT
BEGIN:VEVENT
DTSTART;VALUE=DATE:20250606
DTEND;VALUE=DATE:20250609
DTSTAMP:20260425T094810
CREATED:20240418T193255Z
LAST-MODIFIED:20250128T204559Z
UID:3733-1749168000-1749427199@hansendamhorsepark.com
SUMMARY:Gold Coast Horse Show Hunter/Jumper
DESCRIPTION:These three-day shows offer a wide variety of classes for all levels of hunter/jumper riders. The shows are rated by USEF\, USHJA Outreach\, PCHA\, and LAHJA. Exhibitors automatically earn points toward the Gold Coast Series Awards presented at the Gold Coast Gala during Gold Coast Finale. Visit our website: https://goldcoasthorseshows.com/ or email us for more information: show@goldcoasthorseshows.com.
URL:https://hansendamhorsepark.com/event/gold-coast-horse-show-18/
LOCATION:Hansen Dam Horse Park\, 11127 Orcas Avenue\, Sylmar\, CA\, 91342\, United States
END:VEVENT
BEGIN:VEVENT
DTSTART;VALUE=DATE:20250606
DTEND;VALUE=DATE:20250607
DTSTAMP:20260425T094810
CREATED:20240111T195457Z
LAST-MODIFIED:20240418T192453Z
UID:3608-1749168000-1749254399@hansendamhorsepark.com
SUMMARY:Private Party
DESCRIPTION:
URL:https://hansendamhorsepark.com/event/private-party-26/
LOCATION:Clubhouse
END:VEVENT
BEGIN:VEVENT
DTSTART;VALUE=DATE:20250531
DTEND;VALUE=DATE:20250602
DTSTAMP:20260425T094810
CREATED:20241213T191803Z
LAST-MODIFIED:20241213T191803Z
UID:3906-1748649600-1748822399@hansendamhorsepark.com
SUMMARY:ETI Corral 101 Horse Show
DESCRIPTION:Weekend shows featuring a variety of English and Western classes for many levels of horses and riders. These are great entry level shows held in a fun\, relaxing environment.
URL:https://hansendamhorsepark.com/event/eti-corral-101-horse-show-17/
LOCATION:Hansen Dam Horse Park\, 11127 Orcas Avenue\, Sylmar\, CA\, 91342\, United States
END:VEVENT
BEGIN:VEVENT
DTSTART;VALUE=DATE:20250531
DTEND;VALUE=DATE:20250602
DTSTAMP:20260425T094810
CREATED:20240726T161443Z
LAST-MODIFIED:20240726T161443Z
UID:3830-1748649600-1748822399@hansendamhorsepark.com
SUMMARY:ETI Corral 101 Horse Show
DESCRIPTION:Weekend shows featuring a variety of English and Western classes for many levels of horses and riders. These are great entry level shows held in a fun\, relaxing environment.
URL:https://hansendamhorsepark.com/event/eti-corral-101-horse-show-4/
END:VEVENT
BEGIN:VEVENT
DTSTART;VALUE=DATE:20250524
DTEND;VALUE=DATE:20250525
DTSTAMP:20260425T094810
CREATED:20240829T173040Z
LAST-MODIFIED:20240829T173040Z
UID:3863-1748044800-1748131199@hansendamhorsepark.com
SUMMARY:Private Party
DESCRIPTION:
URL:https://hansendamhorsepark.com/event/private-party-40/
LOCATION:Sunrise Patio
END:VEVENT
BEGIN:VEVENT
DTSTART;VALUE=DATE:20250524
DTEND;VALUE=DATE:20250525
DTSTAMP:20260425T094810
CREATED:20240208T162055Z
LAST-MODIFIED:20240208T162055Z
UID:3659-1748044800-1748131199@hansendamhorsepark.com
SUMMARY:Private Party
DESCRIPTION:
URL:https://hansendamhorsepark.com/event/private-party-31/
LOCATION:VIP Charro
END:VEVENT
BEGIN:VEVENT
DTSTART;VALUE=DATE:20250516
DTEND;VALUE=DATE:20250519
DTSTAMP:20260425T094810
CREATED:20240418T193223Z
LAST-MODIFIED:20250128T203520Z
UID:3731-1747353600-1747612799@hansendamhorsepark.com
SUMMARY:Gold Coast Horse Show Hunter/Jumper
DESCRIPTION:These three-day shows offer a wide variety of classes for all levels of hunter/jumper riders. The shows are rated by USEF\, USHJA Outreach\, PCHA\, and LAHJA. Exhibitors automatically earn points toward the Gold Coast Series Awards presented at the Gold Coast Gala during Gold Coast Finale. Visit our website: https://goldcoasthorseshows.com/ or email us for more information: show@goldcoasthorseshows.com.
URL:https://hansendamhorsepark.com/event/gold-coast-horse-show-17/
LOCATION:Hansen Dam Horse Park\, 11127 Orcas Avenue\, Sylmar\, CA\, 91342\, United States
END:VEVENT
BEGIN:VEVENT
DTSTART;VALUE=DATE:20250503
DTEND;VALUE=DATE:20250505
DTSTAMP:20260425T094810
CREATED:20240523T173102Z
LAST-MODIFIED:20240523T173102Z
UID:3788-1746230400-1746403199@hansendamhorsepark.com
SUMMARY:IEL Horse Show (RAIN)
DESCRIPTION:Middle and High School riders represent their schools in hunter/jumper and dressage classes. The categories of classes are Novice\, Freshman\, Junior Varsity\, and Varsity. Series end awards are presented to high scoring student athletes and school teams.
URL:https://hansendamhorsepark.com/event/iel-horse-show-rain/
LOCATION:Hansen Dam Horse Park\, 11127 Orcas Avenue\, Sylmar\, CA\, 91342\, United States
END:VEVENT
BEGIN:VEVENT
DTSTART;VALUE=DATE:20250503
DTEND;VALUE=DATE:20250504
DTSTAMP:20260425T094810
CREATED:20240319T180910Z
LAST-MODIFIED:20240319T180910Z
UID:3705-1746230400-1746316799@hansendamhorsepark.com
SUMMARY:Private Party
DESCRIPTION:
URL:https://hansendamhorsepark.com/event/private-party-38/
LOCATION:VIP Charro
END:VEVENT
BEGIN:VEVENT
DTSTART;VALUE=DATE:20250426
DTEND;VALUE=DATE:20250427
DTSTAMP:20260425T094810
CREATED:20240523T172756Z
LAST-MODIFIED:20240523T172756Z
UID:3781-1745625600-1745711999@hansendamhorsepark.com
SUMMARY:Private Party
DESCRIPTION:
URL:https://hansendamhorsepark.com/event/private-party-45/
LOCATION:Clubhouse
END:VEVENT
END:VCALENDAR