BEGIN:VCALENDAR
VERSION:2.0
PRODID:-//Hansen Dam Horse Park - ECPv6.15.18//NONSGML v1.0//EN
CALSCALE:GREGORIAN
METHOD:PUBLISH
X-WR-CALNAME:Hansen Dam Horse Park
X-ORIGINAL-URL:https://hansendamhorsepark.com
X-WR-CALDESC:Events for Hansen Dam Horse Park
REFRESH-INTERVAL;VALUE=DURATION:PT1H
X-Robots-Tag:noindex
X-PUBLISHED-TTL:PT1H
BEGIN:VTIMEZONE
TZID:America/Los_Angeles
BEGIN:DAYLIGHT
TZOFFSETFROM:-0800
TZOFFSETTO:-0700
TZNAME:PDT
DTSTART:20230312T100000
END:DAYLIGHT
BEGIN:STANDARD
TZOFFSETFROM:-0700
TZOFFSETTO:-0800
TZNAME:PST
DTSTART:20231105T090000
END:STANDARD
BEGIN:DAYLIGHT
TZOFFSETFROM:-0800
TZOFFSETTO:-0700
TZNAME:PDT
DTSTART:20240310T100000
END:DAYLIGHT
BEGIN:STANDARD
TZOFFSETFROM:-0700
TZOFFSETTO:-0800
TZNAME:PST
DTSTART:20241103T090000
END:STANDARD
BEGIN:DAYLIGHT
TZOFFSETFROM:-0800
TZOFFSETTO:-0700
TZNAME:PDT
DTSTART:20250309T100000
END:DAYLIGHT
BEGIN:STANDARD
TZOFFSETFROM:-0700
TZOFFSETTO:-0800
TZNAME:PST
DTSTART:20251102T090000
END:STANDARD
END:VTIMEZONE
BEGIN:VEVENT
DTSTART;VALUE=DATE:20241102
DTEND;VALUE=DATE:20241103
DTSTAMP:20260425T094052
CREATED:20240829T173236Z
LAST-MODIFIED:20240829T173236Z
UID:3867-1730505600-1730591999@hansendamhorsepark.com
SUMMARY:Private Party
DESCRIPTION:
URL:https://hansendamhorsepark.com/event/private-party-57/
LOCATION:Sunrise Patio
END:VEVENT
BEGIN:VEVENT
DTSTART;VALUE=DATE:20241102
DTEND;VALUE=DATE:20241103
DTSTAMP:20260425T094052
CREATED:20240130T221742Z
LAST-MODIFIED:20240130T221742Z
UID:3653-1730505600-1730591999@hansendamhorsepark.com
SUMMARY:Blue Shadows Mounted Drill Team
DESCRIPTION:The Blue Shadows Mounted Drill Team is one of the longest-running drill teams in California.
URL:https://hansendamhorsepark.com/event/blue-shadows-mounted-drill-team/
LOCATION:Hansen Dam Horse Park\, 11127 Orcas Avenue\, Sylmar\, CA\, 91342\, United States
END:VEVENT
BEGIN:VEVENT
DTSTART;VALUE=DATE:20241019
DTEND;VALUE=DATE:20241021
DTSTAMP:20260425T094052
CREATED:20241017T000632Z
LAST-MODIFIED:20241017T000744Z
UID:3885-1729296000-1729468799@hansendamhorsepark.com
SUMMARY:ISHA USC Horse Show
DESCRIPTION:
URL:https://hansendamhorsepark.com/event/isha-usc-horse-show/
LOCATION:Hansen Dam Horse Park\, 11127 Orcas Avenue\, Sylmar\, CA\, 91342\, United States
END:VEVENT
BEGIN:VEVENT
DTSTART;VALUE=DATE:20241019
DTEND;VALUE=DATE:20241021
DTSTAMP:20260425T094052
CREATED:20230406T191013Z
LAST-MODIFIED:20240226T231956Z
UID:3338-1729296000-1729468799@hansendamhorsepark.com
SUMMARY:ETI Corral 101 Horse Show
DESCRIPTION:Weekend shows featuring a variety of English and Western classes for many levels of horses and riders. These are great entry level shows held in a fun\, relaxing environment.
URL:https://hansendamhorsepark.com/event/eti-corral-101-horse-show-10/
END:VEVENT
BEGIN:VEVENT
DTSTART;VALUE=DATE:20241019
DTEND;VALUE=DATE:20241020
DTSTAMP:20260425T094052
CREATED:20240829T231553Z
LAST-MODIFIED:20240829T231553Z
UID:3874-1729296000-1729382399@hansendamhorsepark.com
SUMMARY:Private Party
DESCRIPTION:
URL:https://hansendamhorsepark.com/event/private-party-60/
LOCATION:Sunrise Patio
END:VEVENT
BEGIN:VEVENT
DTSTART;VALUE=DATE:20241012
DTEND;VALUE=DATE:20241013
DTSTAMP:20260425T094052
CREATED:20240426T235034Z
LAST-MODIFIED:20240426T235034Z
UID:3761-1728691200-1728777599@hansendamhorsepark.com
SUMMARY:Private Party
DESCRIPTION:
URL:https://hansendamhorsepark.com/event/private-party-41/
LOCATION:VIP Charro
END:VEVENT
BEGIN:VEVENT
DTSTART;VALUE=DATE:20241012
DTEND;VALUE=DATE:20241013
DTSTAMP:20260425T094052
CREATED:20240312T194221Z
LAST-MODIFIED:20240312T194949Z
UID:3700-1728691200-1728777599@hansendamhorsepark.com
SUMMARY:Private Party
DESCRIPTION:
URL:https://hansendamhorsepark.com/event/private-party-36/
LOCATION:Sunrise Patio
END:VEVENT
BEGIN:VEVENT
DTSTART;VALUE=DATE:20241012
DTEND;VALUE=DATE:20241013
DTSTAMP:20260425T094052
CREATED:20231128T184605Z
LAST-MODIFIED:20231128T184605Z
UID:3582-1728691200-1728777599@hansendamhorsepark.com
SUMMARY:Private Party
DESCRIPTION:
URL:https://hansendamhorsepark.com/event/private-party-24/
LOCATION:Clubhouse
END:VEVENT
BEGIN:VEVENT
DTSTART;VALUE=DATE:20241005
DTEND;VALUE=DATE:20241007
DTSTAMP:20260425T094052
CREATED:20240123T164850Z
LAST-MODIFIED:20240123T165912Z
UID:3635-1728086400-1728259199@hansendamhorsepark.com
SUMMARY:Gold Coast Horse Show – Western Finals
DESCRIPTION:Welcome to a weekend of fun horse showing at a great facility. Our shows are approved by PCHA\, CRHA\, and feature some select AQHA classes. Reining\, Ranch Riding\, Trail\, Western Pleasure\, and Horsemanship. Top notch sand footing and exhibitors automatically earn points toward the Gold Coast Series Awards presented at the Gold Coast Gala during Gold Coast Finale. Visit our website: https://goldcoasthorseshows.com/or email us for more information: show@goldcoasthorseshows.com.
URL:https://hansendamhorsepark.com/event/gold-coast-horse-show-western-finals/
LOCATION:Hansen Dam Horse Park\, 11127 Orcas Avenue\, Sylmar\, CA\, 91342\, United States
END:VEVENT
BEGIN:VEVENT
DTSTART;VALUE=DATE:20241004
DTEND;VALUE=DATE:20241007
DTSTAMP:20260425T094052
CREATED:20230913T234405Z
LAST-MODIFIED:20240123T165826Z
UID:3479-1728000000-1728259199@hansendamhorsepark.com
SUMMARY:Gold Coast Horse Show – Hunter/Jumper\, LAHJA Bronze & Gold Medal Finals
DESCRIPTION:These three-day shows offer a wide variety of classes for all levels of hunter/jumper riders. The shows are rated by USEF\, USHJA Outreach\, PCHA\, and LAHJA. Exhibitors automatically earn points toward the Gold Coast Series Awards presented at the Gold Coast Gala during Gold Coast Finale. Visit our website: https://goldcoasthorseshows.com/ or email us for more information: show@goldcoasthorseshows.com.
URL:https://hansendamhorsepark.com/event/gold-coast-horse-show-14/
LOCATION:Hansen Dam Horse Park\, 11127 Orcas Avenue\, Sylmar\, CA\, 91342\, United States
END:VEVENT
BEGIN:VEVENT
DTSTART;VALUE=DATE:20240928
DTEND;VALUE=DATE:20240929
DTSTAMP:20260425T094052
CREATED:20240521T235429Z
LAST-MODIFIED:20240521T235429Z
UID:3775-1727481600-1727567999@hansendamhorsepark.com
SUMMARY:Private Party
DESCRIPTION:
URL:https://hansendamhorsepark.com/event/private-party-44/
LOCATION:VIP Charro
END:VEVENT
BEGIN:VEVENT
DTSTART;VALUE=DATE:20240928
DTEND;VALUE=DATE:20240929
DTSTAMP:20260425T094052
CREATED:20240521T235355Z
LAST-MODIFIED:20240521T235355Z
UID:3773-1727481600-1727567999@hansendamhorsepark.com
SUMMARY:Private Party
DESCRIPTION:
URL:https://hansendamhorsepark.com/event/private-party-43/
LOCATION:Sunrise Patio
END:VEVENT
BEGIN:VEVENT
DTSTART;VALUE=DATE:20240922
DTEND;VALUE=DATE:20240923
DTSTAMP:20260425T094052
CREATED:20240829T231845Z
LAST-MODIFIED:20240829T231845Z
UID:3876-1726963200-1727049599@hansendamhorsepark.com
SUMMARY:Pacific Dressage
DESCRIPTION:
URL:https://hansendamhorsepark.com/event/pacific-dressage/
LOCATION:Hansen Dam Horse Park\, 11127 Orcas Avenue\, Sylmar\, CA\, 91342\, United States
END:VEVENT
BEGIN:VEVENT
DTSTART;VALUE=DATE:20240921
DTEND;VALUE=DATE:20240922
DTSTAMP:20260425T094052
CREATED:20240712T230445Z
LAST-MODIFIED:20240712T230445Z
UID:3810-1726876800-1726963199@hansendamhorsepark.com
SUMMARY:Private Party
DESCRIPTION:
URL:https://hansendamhorsepark.com/event/private-party-51/
LOCATION:VIP Charro
END:VEVENT
BEGIN:VEVENT
DTSTART;VALUE=DATE:20240921
DTEND;VALUE=DATE:20240922
DTSTAMP:20260425T094052
CREATED:20240712T230410Z
LAST-MODIFIED:20240712T230410Z
UID:3808-1726876800-1726963199@hansendamhorsepark.com
SUMMARY:Private Party
DESCRIPTION:
URL:https://hansendamhorsepark.com/event/private-party-50/
LOCATION:Clubhouse
END:VEVENT
BEGIN:VEVENT
DTSTART;VALUE=DATE:20240921
DTEND;VALUE=DATE:20240922
DTSTAMP:20260425T094052
CREATED:20240123T163658Z
LAST-MODIFIED:20240123T163658Z
UID:3615-1726876800-1726963199@hansendamhorsepark.com
SUMMARY:Private Party
DESCRIPTION:
URL:https://hansendamhorsepark.com/event/private-party-29/
LOCATION:Sunrise Patio
END:VEVENT
BEGIN:VEVENT
DTSTART;VALUE=DATE:20240914
DTEND;VALUE=DATE:20240916
DTSTAMP:20260425T094052
CREATED:20230905T194545Z
LAST-MODIFIED:20240123T183548Z
UID:3456-1726272000-1726444799@hansendamhorsepark.com
SUMMARY:ETI Corral 101 Horse Show
DESCRIPTION:Weekend shows featuring a variety of English and Western classes for many levels of horses and riders. These are great entry level shows held in a fun\, relaxing environment.
URL:https://hansendamhorsepark.com/event/eti-corral-101-horse-show-5/
END:VEVENT
BEGIN:VEVENT
DTSTART;VALUE=DATE:20240907
DTEND;VALUE=DATE:20240908
DTSTAMP:20260425T094052
CREATED:20231101T220947Z
LAST-MODIFIED:20231101T220947Z
UID:3551-1725667200-1725753599@hansendamhorsepark.com
SUMMARY:Private Party
DESCRIPTION:
URL:https://hansendamhorsepark.com/event/private-party-22/
LOCATION:Sunrise Patio
END:VEVENT
BEGIN:VEVENT
DTSTART;VALUE=DATE:20240831
DTEND;VALUE=DATE:20240902
DTSTAMP:20260425T094052
CREATED:20240510T172546Z
LAST-MODIFIED:20240510T172546Z
UID:3768-1725062400-1725235199@hansendamhorsepark.com
SUMMARY:Gold Coast Labor Day – Western
DESCRIPTION:Welcome to a weekend of fun horse showing at a great facility. Our shows are approved by PCHA\, CRHA\, and feature some select AQHA classes. Reining\, Ranch Riding\, Trail\, Western Pleasure\, and Horsemanship. Top notch sand footing and exhibitors automatically earn points toward the Gold Coast Series Awards presented at the Gold Coast Gala during Gold Coast Finale. Visit our website: https://goldcoasthorseshows.com/or email us for more information: show@goldcoasthorseshows.com.
URL:https://hansendamhorsepark.com/event/gold-coast-labor-day-western/
LOCATION:Hansen Dam Horse Park\, 11127 Orcas Avenue\, Sylmar\, CA\, 91342\, United States
END:VEVENT
BEGIN:VEVENT
DTSTART;VALUE=DATE:20240831
DTEND;VALUE=DATE:20240901
DTSTAMP:20260425T094052
CREATED:20240116T163532Z
LAST-MODIFIED:20240116T163532Z
UID:3613-1725062400-1725148799@hansendamhorsepark.com
SUMMARY:Private Party
DESCRIPTION:
URL:https://hansendamhorsepark.com/event/private-party-28/
LOCATION:Sunrise Patio
END:VEVENT
BEGIN:VEVENT
DTSTART;VALUE=DATE:20240830
DTEND;VALUE=DATE:20240902
DTSTAMP:20260425T094052
CREATED:20230913T234326Z
LAST-MODIFIED:20240510T172354Z
UID:3477-1724976000-1725235199@hansendamhorsepark.com
SUMMARY:Gold Coast Labor Day – Hunter/Jumper\, LAHJA Copper & Silver Medal Finals
DESCRIPTION:These three-day shows offer a wide variety of classes for all levels of hunter/jumper riders. The shows are rated by USEF\, USHJA Outreach\, PCHA\, and LAHJA. Exhibitors automatically earn points toward the Gold Coast Series Awards presented at the Gold Coast Gala during Gold Coast Finale. Visit our website: https://goldcoasthorseshows.com/ or email us for more information: show@goldcoasthorseshows.com.
URL:https://hansendamhorsepark.com/event/gold-coast-horse-show-13/
LOCATION:Hansen Dam Horse Park\, 11127 Orcas Avenue\, Sylmar\, CA\, 91342\, United States
END:VEVENT
BEGIN:VEVENT
DTSTART;VALUE=DATE:20240824
DTEND;VALUE=DATE:20240825
DTSTAMP:20260425T094052
CREATED:20240718T185216Z
LAST-MODIFIED:20240718T185216Z
UID:3816-1724457600-1724543999@hansendamhorsepark.com
SUMMARY:Private Event
DESCRIPTION:
URL:https://hansendamhorsepark.com/event/private-event-4/
LOCATION:Sunrise Patio
END:VEVENT
BEGIN:VEVENT
DTSTART;VALUE=DATE:20240824
DTEND;VALUE=DATE:20240825
DTSTAMP:20260425T094052
CREATED:20240712T230537Z
LAST-MODIFIED:20240712T230537Z
UID:3812-1724457600-1724543999@hansendamhorsepark.com
SUMMARY:Private Party
DESCRIPTION:
URL:https://hansendamhorsepark.com/event/private-party-52/
LOCATION:Clubhouse
END:VEVENT
BEGIN:VEVENT
DTSTART;VALUE=DATE:20240817
DTEND;VALUE=DATE:20240818
DTSTAMP:20260425T094052
CREATED:20240312T194150Z
LAST-MODIFIED:20240312T194150Z
UID:3698-1723852800-1723939199@hansendamhorsepark.com
SUMMARY:Private Party
DESCRIPTION:
URL:https://hansendamhorsepark.com/event/private-party-35/
LOCATION:Sunrise Patio
END:VEVENT
BEGIN:VEVENT
DTSTART;VALUE=DATE:20240817
DTEND;VALUE=DATE:20240818
DTSTAMP:20260425T094052
CREATED:20231101T220845Z
LAST-MODIFIED:20231101T220845Z
UID:3549-1723852800-1723939199@hansendamhorsepark.com
SUMMARY:Private Party
DESCRIPTION:
URL:https://hansendamhorsepark.com/event/private-party-9/
LOCATION:Clubhouse
END:VEVENT
BEGIN:VEVENT
DTSTART;VALUE=DATE:20240810
DTEND;VALUE=DATE:20240811
DTSTAMP:20260425T094052
CREATED:20240703T175156Z
LAST-MODIFIED:20240703T175156Z
UID:3803-1723248000-1723334399@hansendamhorsepark.com
SUMMARY:Private Party
DESCRIPTION:
URL:https://hansendamhorsepark.com/event/private-party-48/
LOCATION:Sunrise Patio
END:VEVENT
BEGIN:VEVENT
DTSTART;VALUE=DATE:20240810
DTEND;VALUE=DATE:20240811
DTSTAMP:20260425T094052
CREATED:20240319T180806Z
LAST-MODIFIED:20240319T180806Z
UID:3703-1723248000-1723334399@hansendamhorsepark.com
SUMMARY:Private Party
DESCRIPTION:
URL:https://hansendamhorsepark.com/event/private-party-37/
LOCATION:Clubhouse
END:VEVENT
BEGIN:VEVENT
DTSTART;VALUE=DATE:20240803
DTEND;VALUE=DATE:20240805
DTSTAMP:20260425T094052
CREATED:20240123T164649Z
LAST-MODIFIED:20240123T165734Z
UID:3630-1722643200-1722815999@hansendamhorsepark.com
SUMMARY:Gold Coast Horse Show – Western
DESCRIPTION:Welcome to a weekend of fun horse showing at a great facility. Our shows are approved by PCHA\, CRHA\, and feature some select AQHA classes. Reining\, Ranch Riding\, Trail\, Western Pleasure\, and Horsemanship. Top notch sand footing and exhibitors automatically earn points toward the Gold Coast Series Awards presented at the Gold Coast Gala during Gold Coast Finale. Visit our website: https://goldcoasthorseshows.com/or email us for more information: show@goldcoasthorseshows.com.
URL:https://hansendamhorsepark.com/event/gold-coast-horse-show-western-5/
LOCATION:Hansen Dam Horse Park\, 11127 Orcas Avenue\, Sylmar\, CA\, 91342\, United States
END:VEVENT
BEGIN:VEVENT
DTSTART;VALUE=DATE:20240802
DTEND;VALUE=DATE:20240805
DTSTAMP:20260425T094052
CREATED:20230913T234206Z
LAST-MODIFIED:20240123T165709Z
UID:3475-1722556800-1722815999@hansendamhorsepark.com
SUMMARY:Gold Coast Horse Show – Hunter/Jumper
DESCRIPTION:These three-day shows offer a wide variety of classes for all levels of hunter/jumper riders. The shows are rated by USEF\, USHJA Outreach\, PCHA\, and LAHJA. Exhibitors automatically earn points toward the Gold Coast Series Awards presented at the Gold Coast Gala during Gold Coast Finale. Visit our website: https://goldcoasthorseshows.com/ or email us for more information: show@goldcoasthorseshows.com.
URL:https://hansendamhorsepark.com/event/gold-coast-horse-show-12/
LOCATION:Hansen Dam Horse Park\, 11127 Orcas Avenue\, Sylmar\, CA\, 91342\, United States
END:VEVENT
BEGIN:VEVENT
DTSTART;VALUE=DATE:20240727
DTEND;VALUE=DATE:20240728
DTSTAMP:20260425T094052
CREATED:20231017T160205Z
LAST-MODIFIED:20231017T160205Z
UID:3521-1722038400-1722124799@hansendamhorsepark.com
SUMMARY:Private Party
DESCRIPTION:
URL:https://hansendamhorsepark.com/event/private-party-13/
LOCATION:Clubhouse
END:VEVENT
END:VCALENDAR