BEGIN:VCALENDAR
VERSION:2.0
PRODID:-//Hansen Dam Horse Park - ECPv6.15.18//NONSGML v1.0//EN
CALSCALE:GREGORIAN
METHOD:PUBLISH
X-ORIGINAL-URL:https://hansendamhorsepark.com
X-WR-CALDESC:Events for Hansen Dam Horse Park
REFRESH-INTERVAL;VALUE=DURATION:PT1H
X-Robots-Tag:noindex
X-PUBLISHED-TTL:PT1H
BEGIN:VTIMEZONE
TZID:America/Los_Angeles
BEGIN:DAYLIGHT
TZOFFSETFROM:-0800
TZOFFSETTO:-0700
TZNAME:PDT
DTSTART:20250309T100000
END:DAYLIGHT
BEGIN:STANDARD
TZOFFSETFROM:-0700
TZOFFSETTO:-0800
TZNAME:PST
DTSTART:20251102T090000
END:STANDARD
BEGIN:DAYLIGHT
TZOFFSETFROM:-0800
TZOFFSETTO:-0700
TZNAME:PDT
DTSTART:20260308T100000
END:DAYLIGHT
BEGIN:STANDARD
TZOFFSETFROM:-0700
TZOFFSETTO:-0800
TZNAME:PST
DTSTART:20261101T090000
END:STANDARD
BEGIN:DAYLIGHT
TZOFFSETFROM:-0800
TZOFFSETTO:-0700
TZNAME:PDT
DTSTART:20270314T100000
END:DAYLIGHT
BEGIN:STANDARD
TZOFFSETFROM:-0700
TZOFFSETTO:-0800
TZNAME:PST
DTSTART:20271107T090000
END:STANDARD
END:VTIMEZONE
BEGIN:VEVENT
DTSTART;VALUE=DATE:20260227
DTEND;VALUE=DATE:20260302
DTSTAMP:20260423T025916
CREATED:20260204T185636Z
LAST-MODIFIED:20260212T195948Z
UID:4082-1772150400-1772409599@hansendamhorsepark.com
SUMMARY:Gold Coast Horse Show Hunter/Jumper - Rescheduled to Feb 27 - Mar 1
DESCRIPTION:These three-day shows offer a wide variety of classes for all levels of hunter/jumper riders. The shows are rated by USEF\, USHJA Outreach\, PCHA\, and LAHJA. Exhibitors automatically earn points toward the Gold Coast Series Awards presented at the Gold Coast Gala during Gold Coast Finale. Visit our website: https://goldcoasthorseshows.com/ or email us for more information: show@goldcoasthorseshows.com.
URL:https://hansendamhorsepark.com/event/gold-coast-horse-show-hunter-jumper/
LOCATION:Hansen Dam Horse Park\, 11127 Orcas Avenue\, Sylmar\, CA\, 91342\, United States
END:VEVENT
BEGIN:VEVENT
DTSTART;VALUE=DATE:20260227
DTEND;VALUE=DATE:20260302
DTSTAMP:20260423T025916
CREATED:20260204T185708Z
LAST-MODIFIED:20260204T185708Z
UID:4084-1772150400-1772409599@hansendamhorsepark.com
SUMMARY:IHSA
DESCRIPTION:
URL:https://hansendamhorsepark.com/event/ihsa-4/
LOCATION:Hansen Dam Horse Park\, 11127 Orcas Avenue\, Sylmar\, CA\, 91342\, United States
END:VEVENT
BEGIN:VEVENT
DTSTART;VALUE=DATE:20260306
DTEND;VALUE=DATE:20260309
DTSTAMP:20260423T025916
CREATED:20260204T185833Z
LAST-MODIFIED:20260204T185833Z
UID:4086-1772755200-1773014399@hansendamhorsepark.com
SUMMARY:ETI Corral 101 Horse Show
DESCRIPTION:Weekend shows featuring a variety of English and Western classes for many levels of horses and riders. These are great entry level shows held in a fun\, relaxing environment.
URL:https://hansendamhorsepark.com/event/eti-corral-101-horse-show-13/
END:VEVENT
BEGIN:VEVENT
DTSTART;VALUE=DATE:20260314
DTEND;VALUE=DATE:20260315
DTSTAMP:20260423T025916
CREATED:20260204T185909Z
LAST-MODIFIED:20260204T190505Z
UID:4088-1773446400-1773532799@hansendamhorsepark.com
SUMMARY:Tri Valley Barrel Racing
DESCRIPTION:
URL:https://hansendamhorsepark.com/event/tri-valley-barrel-racing/
LOCATION:Hansen Dam Horse Park\, 11127 Orcas Avenue\, Sylmar\, CA\, 91342\, United States
END:VEVENT
END:VCALENDAR